BEGIN:VCALENDAR
PRODID:-//AT Content Types//AT Event//EN
VERSION:2.0
METHOD:PUBLISH
BEGIN:VEVENT
DTSTAMP:20260421T124713Z
CREATED:20260421T082651Z
UID:ATEvent-91fb81c95d5a42b69ec1603251a88c5c
LAST-MODIFIED:20260421T102043Z
SUMMARY:XVI CORSO DI AGGIORNAMENTO NON SOLO PARKINSON 2026 | "E PUR SI MUOVE". IL MOVIMENTO: DALLA FUNZIONE ALLA MALATTIA | REGGIO EMILIA\, 25  SETTEMBRE 2026
DTSTART:20260924T220000Z
DTEND:20260924T220000Z
LOCATION:REGGIO EMILIA
CONTACT:CHIARA CIAMPAGLIA\, 0532 762404\, convegni@unife.it
CLASS:PUBLIC
END:VEVENT
END:VCALENDAR
